BEGIN:VCALENDAR
VERSION:2.0
PRODID:-//wp-events-plugin.com//6.4.6.3//EN
TZID:Europe/Madrid
X-WR-TIMEZONE:Europe/Madrid
BEGIN:VEVENT
UID:86@asecam.com
DTSTART;TZID=Europe/Madrid:20260428T093000
DTEND;TZID=Europe/Madrid:20260428T113000
DTSTAMP:20260416T120613Z
URL:https://asecam.com/events/encuentro-asecam-por-la-energia-sostenible/
SUMMARY:Encuentro ASECAM por la Energía Sostenible
DESCRIPTION:El próximo 28 de abril de 2026\, a las 9:30 horas celebrarem
 os una interesante jornada en las instalaciones del Centro de Educación A
 mbiental de la Comunitat Valenciana (CEACV).\n\nEl gobierno ha aprobado el
  Real Decreto-Ley 7/2026\, de 20 de marzo que\, a su vez\, aprueba el Pla
 n Integral de Respuesta a la Crisis en Oriente Medio:\n\n 	De 500 m a 5 km
 : el autoconsumo colectivo multiplica por diez su radio de acción y aumen
 ta a 5000 kW.\n 	Los ayuntamientos entran en el tablero: la Ley reconoce c
 ompetencia propia expresa en transición energética\, autoconsumo y comun
 idades energéticas.\n 	La ciudadanía gana protagonismo: los grandes parq
 ues deben de repartir parte de sus beneficios con la ciudadanía y la comu
 nidad local.\n\nPROGRAMA\n9.30 - Juan Sacri\, líder del GT Energía Soste
 nible del Foro Asecam de Sostenibilidad Ambiental y Presidente de Sapiens 
 Energía\n\n9.45 - Mesa debate: Manuel Argüelles - Director General de E
 nergía y Minas\n                                    Ped
 ro Fresco - Director General de AVAESEN\nModera: Juan Sacri - Líder del G
 T de Energía Sostenible\n\n10.45 - Cierre Institucional\n\n11.00 - Café\
 n\nPuedes apuntarte rellenando el formulario de inscripción: https://for
 ms.gle/oepB4qCNTzv2GtVz7
ATTACH;FMTTYPE=image/jpeg:https://asecam.com/wp-content/uploads/2026/04/Jo
 rnada-ES.png
CATEGORIES:Jornadas
LOCATION:Centro de Educación Ambiental de la Comunitat Valenciana - CEACV\
 , Carretera de la siderurgica\, Km. 2\, Puerto de Sagunto\, 46520\, Españ
 a
X-APPLE-STRUCTURED-LOCATION;VALUE=URI;X-ADDRESS=Carretera de la siderurgica
 \, Km. 2\, Puerto de Sagunto\, 46520\, España;X-APPLE-RADIUS=100;X-TITLE=
 Centro de Educación Ambiental de la Comunitat Valenciana - CEACV:geo:0,0
END:VEVENT
BEGIN:VTIMEZONE
TZID:Europe/Madrid
X-LIC-LOCATION:Europe/Madrid
BEGIN:DAYLIGHT
DTSTART:20260329T030000
TZOFFSETFROM:+0100
TZOFFSETTO:+0200
TZNAME:CEST
END:DAYLIGHT
END:VTIMEZONE
END:VCALENDAR